BEGIN:VCALENDAR
VERSION:2.0
PRODID:-//Saluhallen i Lund - ECPv6.15.20//NONSGML v1.0//EN
CALSCALE:GREGORIAN
METHOD:PUBLISH
X-WR-CALNAME:Saluhallen i Lund
X-ORIGINAL-URL:https://lundssaluhall.se
X-WR-CALDESC:Händelser för Saluhallen i Lund
REFRESH-INTERVAL;VALUE=DURATION:PT1H
X-Robots-Tag:noindex
X-PUBLISHED-TTL:PT1H
BEGIN:VTIMEZONE
TZID:Europe/Stockholm
BEGIN:DAYLIGHT
TZOFFSETFROM:+0100
TZOFFSETTO:+0200
TZNAME:CEST
DTSTART:20240331T010000
END:DAYLIGHT
BEGIN:STANDARD
TZOFFSETFROM:+0200
TZOFFSETTO:+0100
TZNAME:CET
DTSTART:20241027T010000
END:STANDARD
BEGIN:DAYLIGHT
TZOFFSETFROM:+0100
TZOFFSETTO:+0200
TZNAME:CEST
DTSTART:20250330T010000
END:DAYLIGHT
BEGIN:STANDARD
TZOFFSETFROM:+0200
TZOFFSETTO:+0100
TZNAME:CET
DTSTART:20251026T010000
END:STANDARD
BEGIN:DAYLIGHT
TZOFFSETFROM:+0100
TZOFFSETTO:+0200
TZNAME:CEST
DTSTART:20260329T010000
END:DAYLIGHT
BEGIN:STANDARD
TZOFFSETFROM:+0200
TZOFFSETTO:+0100
TZNAME:CET
DTSTART:20261025T010000
END:STANDARD
END:VTIMEZONE
BEGIN:VEVENT
DTSTART;TZID=Europe/Stockholm:20250920T100000
DTEND;TZID=Europe/Stockholm:20250920T223000
DTSTAMP:20260426T034419
CREATED:20250626T160828Z
LAST-MODIFIED:20250905T150235Z
UID:4285-1758362400-1758407400@lundssaluhall.se
SUMMARY:Kulturnatten 2025 i Lunds Saluhall – magi\, musik och mat med extra allt!
DESCRIPTION:Lördagen den 20 september bjuder Saluhallen in till en kväll fylld av smaker\, stämning och överraskningar! \nLund firar 40 år av kulturglädje! Flera av våra butiker och restauranger kommer att ha utökade öppettider denna kväll – perfekt för dig som vill njuta av god mat\, handla något extra eller bara ta in atmosfären i hjärtat av Lund. \nPROGRAM\n12.00-16.00 LIMUS Musikskola lär dig spela piano\nLunds internationella musiksalong finns också på plats och bjuder på levande musik  mitt bland besökare och smakupplevelser. Lär dig spela piano på 15 minuter med pianoprofilen Gabriele Katthän (från 15 år). Lite filurigt och helt gratis! Du är välkommen även om du inte är nybörjare. \n15.00-17.00 Odla i kopp \nLär dig att odla dina egna gröna godsaker i en liten kopp! Ja\, mer plats än så behövs inte. Britta Anfast från Lunds kommuns Fastighets AB (LKF) visar hur du skapar goda gröna ting på en liten yta\, perfekt för dig som inte har en trädgård. Denna dag odlas ärtskott\, allt du behöver finns på plats. Lämplig ålder: 3 – 13 år\, men alla är välkomna! \n15.00-20.00 Smakvandring\nNjut av smakprover från handlarna i saluhallens ”ursprungliga del”.\nPris: 220kr för 10 smakprover.\nGäller hos:  Ahlgrens\, Gröna Deli\, Gateau\, Guatemalan Coffee\, Holmgrens\, Malmstens Fisk & Kök\, Osthuset\, Petersborgs gårdsbutik\, Sugar Spice\, Viet Cuisine. \n16.00-20.00 Magiker Anders Fox underhåller\nDen internationella trollkonstnären Anders Fox dyker upp mitt bland matdofter och sorl och serverar magisk underhållning\, en gåva förpackad i förundran. Följ skrattet\, applåderna och blickarna av häpnad\, magin hittar dig där du minst anar det. \n16.30-17.00 och 17.30-18.00 Musik av LF sounds\nLF Sounds består av medlemmar och handledare på Lunds Fontänhus. Gruppen rör sig brett mellan genrer som jazz\, rock\, pop och soul och utforskar gärna nya ljudbilder genom att exempelvis blanda traditionell jazz med nyskriven rap. Lyssna på LF Sounds på Spotify. \n18.00 – 21.00 Konstutställning av medlemmarna från Lunds fontänhus ateljé\nUtställning av projekt och personliga konstnärliga processer. Här finner du konst i olika tekniker från bildkonst till konsthantverk och har möjlighet att prata med konstnärerna bakom verken. \n19.00-21.00 LIMUS Musikskola bjuder på toner\nKlassiskt loungemusik och impressionistiska stämningar av LIMUS Musikskolas Fredrik Schützer som underhåller vid Saluhallens akustiska piano \n19.30-22.30 Live Country på Texas Longhorn\nBoots\, Banjo & Bröl – Livemusik av Johan & Dennis! Det här är country med både hjärta och sväng.\nJohan & Dennis bjuder på akustiska tolkningar av såväl välkända klassiker som oväntade guldkorn. Här ryms både låtar att stampa takten till och skråla med i\, samt stunder att bara luta sig tillbaka och njuta. Och givetvis – banjo! \nVälkommen att uppleva en magisk kväll i Saluhallen – mitt i firandet av Kulturnattens 40-årsjubileum! \n \nLäs mer\n\nInformation om Kulturnatten på lund.se\nAnder Fox – Magical Entertainer\nLIMUS Musikskola\nLunds Fontänhus\nLF Sounds (Facebook)\nLKF (Lunds kommuns Fastighets AB)
URL:https://lundssaluhall.se/event/kulturnatten-2025-i-saluhallen-i-lund/
LOCATION:Saluhallen Lund\, Mårtenstorget 1\, Lund\, Sweden
CATEGORIES:Events
END:VEVENT
END:VCALENDAR